BEGIN:VCALENDAR
VERSION:2.0
PRODID:-//equinesportsalliance.com - ECPv6.0.13.1//NONSGML v1.0//EN
CALSCALE:GREGORIAN
METHOD:PUBLISH
X-WR-CALNAME:equinesportsalliance.com
X-ORIGINAL-URL:https://equinesportsalliance.com
X-WR-CALDESC:Events for equinesportsalliance.com
REFRESH-INTERVAL;VALUE=DURATION:PT1H
X-Robots-Tag:noindex
X-PUBLISHED-TTL:PT1H
BEGIN:VTIMEZONE
TZID:UTC
BEGIN:STANDARD
TZOFFSETFROM:+0000
TZOFFSETTO:+0000
TZNAME:UTC
DTSTART:20240101T000000
END:STANDARD
END:VTIMEZONE
BEGIN:VEVENT
DTSTART;TZID=UTC:20240504T080000
DTEND;TZID=UTC:20240504T170000
DTSTAMP:20260423T195125
CREATED:20240419T172218Z
LAST-MODIFIED:20240419T172218Z
UID:10000061-1714809600-1714842000@equinesportsalliance.com
SUMMARY:May 4th $5\,000 Added Barrel Race
DESCRIPTION:
URL:https://equinesportsalliance.com/event/may-4th-5000-added-barrel-race/
LOCATION:Deen Ranch\, Wills Point\, Texas
END:VEVENT
BEGIN:VEVENT
DTSTART;TZID=UTC:20250405T080000
DTEND;TZID=UTC:20250405T170000
DTSTAMP:20260423T195125
CREATED:20250225T005324Z
LAST-MODIFIED:20250304T201710Z
UID:10000127-1743840000-1743872400@equinesportsalliance.com
SUMMARY:Zero Limits Mindset Barrel Race
DESCRIPTION:
URL:https://equinesportsalliance.com/event/zero-limits-mindset-barrel-race/
LOCATION:Deen Ranch\, Wills Point\, Texas
END:VEVENT
BEGIN:VEVENT
DTSTART;TZID=UTC:20260114T080000
DTEND;TZID=UTC:20260114T170000
DTSTAMP:20260423T195125
CREATED:20260112T213812Z
LAST-MODIFIED:20260112T213835Z
UID:10000487-1768377600-1768410000@equinesportsalliance.com
SUMMARY:Deen Ranch Weekly
DESCRIPTION:
URL:https://equinesportsalliance.com/event/deen-ranch-weekly/2026-01-14/
LOCATION:Deen Ranch\, Wills Point\, Texas
END:VEVENT
BEGIN:VEVENT
DTSTART;TZID=UTC:20260121T080000
DTEND;TZID=UTC:20260121T170000
DTSTAMP:20260423T195125
CREATED:20260112T213812Z
LAST-MODIFIED:20260112T213835Z
UID:10000488-1768982400-1769014800@equinesportsalliance.com
SUMMARY:Deen Ranch Weekly
DESCRIPTION:
URL:https://equinesportsalliance.com/event/deen-ranch-weekly/2026-01-21/
LOCATION:Deen Ranch\, Wills Point\, Texas
END:VEVENT
BEGIN:VEVENT
DTSTART;TZID=UTC:20260128T080000
DTEND;TZID=UTC:20260128T170000
DTSTAMP:20260423T195125
CREATED:20260112T213812Z
LAST-MODIFIED:20260112T213835Z
UID:10000489-1769587200-1769619600@equinesportsalliance.com
SUMMARY:Deen Ranch Weekly
DESCRIPTION:
URL:https://equinesportsalliance.com/event/deen-ranch-weekly/2026-01-28/
LOCATION:Deen Ranch\, Wills Point\, Texas
END:VEVENT
BEGIN:VEVENT
DTSTART;TZID=UTC:20260204T080000
DTEND;TZID=UTC:20260204T170000
DTSTAMP:20260423T195125
CREATED:20260112T213812Z
LAST-MODIFIED:20260112T213835Z
UID:10000490-1770192000-1770224400@equinesportsalliance.com
SUMMARY:Deen Ranch Weekly
DESCRIPTION:
URL:https://equinesportsalliance.com/event/deen-ranch-weekly/2026-02-04/
LOCATION:Deen Ranch\, Wills Point\, Texas
END:VEVENT
BEGIN:VEVENT
DTSTART;TZID=UTC:20260211T080000
DTEND;TZID=UTC:20260211T170000
DTSTAMP:20260423T195125
CREATED:20260112T213812Z
LAST-MODIFIED:20260112T213835Z
UID:10000491-1770796800-1770829200@equinesportsalliance.com
SUMMARY:Deen Ranch Weekly
DESCRIPTION:
URL:https://equinesportsalliance.com/event/deen-ranch-weekly/2026-02-11/
LOCATION:Deen Ranch\, Wills Point\, Texas
END:VEVENT
BEGIN:VEVENT
DTSTART;TZID=UTC:20260218T080000
DTEND;TZID=UTC:20260218T170000
DTSTAMP:20260423T195125
CREATED:20260112T213812Z
LAST-MODIFIED:20260112T213835Z
UID:10000492-1771401600-1771434000@equinesportsalliance.com
SUMMARY:Deen Ranch Weekly
DESCRIPTION:
URL:https://equinesportsalliance.com/event/deen-ranch-weekly/2026-02-18/
LOCATION:Deen Ranch\, Wills Point\, Texas
END:VEVENT
BEGIN:VEVENT
DTSTART;TZID=UTC:20260225T080000
DTEND;TZID=UTC:20260225T170000
DTSTAMP:20260423T195125
CREATED:20260112T213812Z
LAST-MODIFIED:20260112T213835Z
UID:10000493-1772006400-1772038800@equinesportsalliance.com
SUMMARY:Deen Ranch Weekly
DESCRIPTION:
URL:https://equinesportsalliance.com/event/deen-ranch-weekly/2026-02-25/
LOCATION:Deen Ranch\, Wills Point\, Texas
END:VEVENT
BEGIN:VEVENT
DTSTART;TZID=UTC:20260304T080000
DTEND;TZID=UTC:20260304T170000
DTSTAMP:20260423T195125
CREATED:20260112T213812Z
LAST-MODIFIED:20260112T213835Z
UID:10000494-1772611200-1772643600@equinesportsalliance.com
SUMMARY:Deen Ranch Weekly
DESCRIPTION:
URL:https://equinesportsalliance.com/event/deen-ranch-weekly/2026-03-04/
LOCATION:Deen Ranch\, Wills Point\, Texas
END:VEVENT
BEGIN:VEVENT
DTSTART;TZID=UTC:20260311T080000
DTEND;TZID=UTC:20260311T170000
DTSTAMP:20260423T195125
CREATED:20260112T213812Z
LAST-MODIFIED:20260112T213835Z
UID:10000495-1773216000-1773248400@equinesportsalliance.com
SUMMARY:Deen Ranch Weekly
DESCRIPTION:
URL:https://equinesportsalliance.com/event/deen-ranch-weekly/2026-03-11/
LOCATION:Deen Ranch\, Wills Point\, Texas
END:VEVENT
BEGIN:VEVENT
DTSTART;TZID=UTC:20260318T080000
DTEND;TZID=UTC:20260318T170000
DTSTAMP:20260423T195125
CREATED:20260112T213812Z
LAST-MODIFIED:20260112T213835Z
UID:10000496-1773820800-1773853200@equinesportsalliance.com
SUMMARY:Deen Ranch Weekly
DESCRIPTION:
URL:https://equinesportsalliance.com/event/deen-ranch-weekly/2026-03-18/
LOCATION:Deen Ranch\, Wills Point\, Texas
END:VEVENT
BEGIN:VEVENT
DTSTART;TZID=UTC:20260325T080000
DTEND;TZID=UTC:20260325T170000
DTSTAMP:20260423T195125
CREATED:20260112T213812Z
LAST-MODIFIED:20260112T213835Z
UID:10000497-1774425600-1774458000@equinesportsalliance.com
SUMMARY:Deen Ranch Weekly
DESCRIPTION:
URL:https://equinesportsalliance.com/event/deen-ranch-weekly/2026-03-25/
LOCATION:Deen Ranch\, Wills Point\, Texas
END:VEVENT
BEGIN:VEVENT
DTSTART;TZID=UTC:20260401T080000
DTEND;TZID=UTC:20260401T170000
DTSTAMP:20260423T195125
CREATED:20260112T213812Z
LAST-MODIFIED:20260112T213835Z
UID:10000498-1775030400-1775062800@equinesportsalliance.com
SUMMARY:Deen Ranch Weekly
DESCRIPTION:
URL:https://equinesportsalliance.com/event/deen-ranch-weekly/2026-04-01/
LOCATION:Deen Ranch\, Wills Point\, Texas
END:VEVENT
BEGIN:VEVENT
DTSTART;TZID=UTC:20260408T080000
DTEND;TZID=UTC:20260408T170000
DTSTAMP:20260423T195125
CREATED:20260112T213812Z
LAST-MODIFIED:20260112T213835Z
UID:10000499-1775635200-1775667600@equinesportsalliance.com
SUMMARY:Deen Ranch Weekly
DESCRIPTION:
URL:https://equinesportsalliance.com/event/deen-ranch-weekly/2026-04-08/
LOCATION:Deen Ranch\, Wills Point\, Texas
END:VEVENT
BEGIN:VEVENT
DTSTART;TZID=UTC:20260415T080000
DTEND;TZID=UTC:20260415T170000
DTSTAMP:20260423T195125
CREATED:20260112T213812Z
LAST-MODIFIED:20260112T213835Z
UID:10000500-1776240000-1776272400@equinesportsalliance.com
SUMMARY:Deen Ranch Weekly
DESCRIPTION:
URL:https://equinesportsalliance.com/event/deen-ranch-weekly/2026-04-15/
LOCATION:Deen Ranch\, Wills Point\, Texas
END:VEVENT
BEGIN:VEVENT
DTSTART;TZID=UTC:20260422T080000
DTEND;TZID=UTC:20260422T170000
DTSTAMP:20260423T195125
CREATED:20260112T213812Z
LAST-MODIFIED:20260112T213835Z
UID:10000501-1776844800-1776877200@equinesportsalliance.com
SUMMARY:Deen Ranch Weekly
DESCRIPTION:
URL:https://equinesportsalliance.com/event/deen-ranch-weekly/2026-04-22/
LOCATION:Deen Ranch\, Wills Point\, Texas
END:VEVENT
END:VCALENDAR