BEGIN:VCALENDAR
VERSION:2.0
PRODID:-//equinesportsalliance.com - ECPv6.0.13.1//NONSGML v1.0//EN
CALSCALE:GREGORIAN
METHOD:PUBLISH
X-ORIGINAL-URL:https://equinesportsalliance.com
X-WR-CALDESC:Events for equinesportsalliance.com
REFRESH-INTERVAL;VALUE=DURATION:PT1H
X-Robots-Tag:noindex
X-PUBLISHED-TTL:PT1H
BEGIN:VTIMEZONE
TZID:UTC
BEGIN:STANDARD
TZOFFSETFROM:+0000
TZOFFSETTO:+0000
TZNAME:UTC
DTSTART:20260101T000000
END:STANDARD
END:VTIMEZONE
BEGIN:VEVENT
DTSTART;TZID=UTC:20260429T080000
DTEND;TZID=UTC:20260429T170000
DTSTAMP:20260423T182208
CREATED:20260112T213812Z
LAST-MODIFIED:20260112T213835Z
UID:10000502-1777449600-1777482000@equinesportsalliance.com
SUMMARY:Deen Ranch Weekly
DESCRIPTION:
URL:https://equinesportsalliance.com/event/deen-ranch-weekly/2026-04-29/
LOCATION:Deen Ranch\, Wills Point\, Texas
END:VEVENT
BEGIN:VEVENT
DTSTART;TZID=UTC:20260506T080000
DTEND;TZID=UTC:20260506T170000
DTSTAMP:20260423T182208
CREATED:20260112T213812Z
LAST-MODIFIED:20260112T213835Z
UID:10000503-1778054400-1778086800@equinesportsalliance.com
SUMMARY:Deen Ranch Weekly
DESCRIPTION:
URL:https://equinesportsalliance.com/event/deen-ranch-weekly/2026-05-06/
LOCATION:Deen Ranch\, Wills Point\, Texas
END:VEVENT
BEGIN:VEVENT
DTSTART;TZID=UTC:20260513T080000
DTEND;TZID=UTC:20260513T170000
DTSTAMP:20260423T182208
CREATED:20260112T213812Z
LAST-MODIFIED:20260112T213835Z
UID:10000504-1778659200-1778691600@equinesportsalliance.com
SUMMARY:Deen Ranch Weekly
DESCRIPTION:
URL:https://equinesportsalliance.com/event/deen-ranch-weekly/2026-05-13/
LOCATION:Deen Ranch\, Wills Point\, Texas
END:VEVENT
BEGIN:VEVENT
DTSTART;TZID=UTC:20260520T080000
DTEND;TZID=UTC:20260520T170000
DTSTAMP:20260423T182208
CREATED:20260112T213812Z
LAST-MODIFIED:20260112T213835Z
UID:10000505-1779264000-1779296400@equinesportsalliance.com
SUMMARY:Deen Ranch Weekly
DESCRIPTION:
URL:https://equinesportsalliance.com/event/deen-ranch-weekly/2026-05-20/
LOCATION:Deen Ranch\, Wills Point\, Texas
END:VEVENT
BEGIN:VEVENT
DTSTART;TZID=UTC:20260527T080000
DTEND;TZID=UTC:20260527T170000
DTSTAMP:20260423T182208
CREATED:20260112T213812Z
LAST-MODIFIED:20260112T213835Z
UID:10000506-1779868800-1779901200@equinesportsalliance.com
SUMMARY:Deen Ranch Weekly
DESCRIPTION:
URL:https://equinesportsalliance.com/event/deen-ranch-weekly/2026-05-27/
LOCATION:Deen Ranch\, Wills Point\, Texas
END:VEVENT
BEGIN:VEVENT
DTSTART;TZID=UTC:20260603T080000
DTEND;TZID=UTC:20260603T170000
DTSTAMP:20260423T182208
CREATED:20260112T213812Z
LAST-MODIFIED:20260112T213835Z
UID:10000507-1780473600-1780506000@equinesportsalliance.com
SUMMARY:Deen Ranch Weekly
DESCRIPTION:
URL:https://equinesportsalliance.com/event/deen-ranch-weekly/2026-06-03/
LOCATION:Deen Ranch\, Wills Point\, Texas
END:VEVENT
BEGIN:VEVENT
DTSTART;TZID=UTC:20260610T080000
DTEND;TZID=UTC:20260610T170000
DTSTAMP:20260423T182208
CREATED:20260112T213812Z
LAST-MODIFIED:20260112T213835Z
UID:10000508-1781078400-1781110800@equinesportsalliance.com
SUMMARY:Deen Ranch Weekly
DESCRIPTION:
URL:https://equinesportsalliance.com/event/deen-ranch-weekly/2026-06-10/
LOCATION:Deen Ranch\, Wills Point\, Texas
END:VEVENT
BEGIN:VEVENT
DTSTART;TZID=UTC:20260617T080000
DTEND;TZID=UTC:20260617T170000
DTSTAMP:20260423T182208
CREATED:20260112T213812Z
LAST-MODIFIED:20260112T213835Z
UID:10000509-1781683200-1781715600@equinesportsalliance.com
SUMMARY:Deen Ranch Weekly
DESCRIPTION:
URL:https://equinesportsalliance.com/event/deen-ranch-weekly/2026-06-17/
LOCATION:Deen Ranch\, Wills Point\, Texas
END:VEVENT
BEGIN:VEVENT
DTSTART;TZID=UTC:20260624T080000
DTEND;TZID=UTC:20260624T170000
DTSTAMP:20260423T182208
CREATED:20260112T213812Z
LAST-MODIFIED:20260112T213835Z
UID:10000510-1782288000-1782320400@equinesportsalliance.com
SUMMARY:Deen Ranch Weekly
DESCRIPTION:
URL:https://equinesportsalliance.com/event/deen-ranch-weekly/2026-06-24/
LOCATION:Deen Ranch\, Wills Point\, Texas
END:VEVENT
BEGIN:VEVENT
DTSTART;TZID=UTC:20260701T080000
DTEND;TZID=UTC:20260701T170000
DTSTAMP:20260423T182208
CREATED:20260112T213812Z
LAST-MODIFIED:20260112T213835Z
UID:10000511-1782892800-1782925200@equinesportsalliance.com
SUMMARY:Deen Ranch Weekly
DESCRIPTION:
URL:https://equinesportsalliance.com/event/deen-ranch-weekly/2026-07-01/
LOCATION:Deen Ranch\, Wills Point\, Texas
END:VEVENT
BEGIN:VEVENT
DTSTART;TZID=UTC:20260708T080000
DTEND;TZID=UTC:20260708T170000
DTSTAMP:20260423T182208
CREATED:20260112T213812Z
LAST-MODIFIED:20260112T213835Z
UID:10000512-1783497600-1783530000@equinesportsalliance.com
SUMMARY:Deen Ranch Weekly
DESCRIPTION:
URL:https://equinesportsalliance.com/event/deen-ranch-weekly/2026-07-08/
LOCATION:Deen Ranch\, Wills Point\, Texas
END:VEVENT
BEGIN:VEVENT
DTSTART;TZID=UTC:20260715T080000
DTEND;TZID=UTC:20260715T170000
DTSTAMP:20260423T182208
CREATED:20260112T213812Z
LAST-MODIFIED:20260112T213835Z
UID:10000513-1784102400-1784134800@equinesportsalliance.com
SUMMARY:Deen Ranch Weekly
DESCRIPTION:
URL:https://equinesportsalliance.com/event/deen-ranch-weekly/2026-07-15/
LOCATION:Deen Ranch\, Wills Point\, Texas
END:VEVENT
BEGIN:VEVENT
DTSTART;TZID=UTC:20260722T080000
DTEND;TZID=UTC:20260722T170000
DTSTAMP:20260423T182208
CREATED:20260112T213812Z
LAST-MODIFIED:20260112T213835Z
UID:10000514-1784707200-1784739600@equinesportsalliance.com
SUMMARY:Deen Ranch Weekly
DESCRIPTION:
URL:https://equinesportsalliance.com/event/deen-ranch-weekly/2026-07-22/
LOCATION:Deen Ranch\, Wills Point\, Texas
END:VEVENT
BEGIN:VEVENT
DTSTART;TZID=UTC:20260729T080000
DTEND;TZID=UTC:20260729T170000
DTSTAMP:20260423T182208
CREATED:20260112T213812Z
LAST-MODIFIED:20260112T213835Z
UID:10000515-1785312000-1785344400@equinesportsalliance.com
SUMMARY:Deen Ranch Weekly
DESCRIPTION:
URL:https://equinesportsalliance.com/event/deen-ranch-weekly/2026-07-29/
LOCATION:Deen Ranch\, Wills Point\, Texas
END:VEVENT
BEGIN:VEVENT
DTSTART;TZID=UTC:20260805T080000
DTEND;TZID=UTC:20260805T170000
DTSTAMP:20260423T182208
CREATED:20260112T213812Z
LAST-MODIFIED:20260112T213835Z
UID:10000516-1785916800-1785949200@equinesportsalliance.com
SUMMARY:Deen Ranch Weekly
DESCRIPTION:
URL:https://equinesportsalliance.com/event/deen-ranch-weekly/2026-08-05/
LOCATION:Deen Ranch\, Wills Point\, Texas
END:VEVENT
BEGIN:VEVENT
DTSTART;TZID=UTC:20260812T080000
DTEND;TZID=UTC:20260812T170000
DTSTAMP:20260423T182208
CREATED:20260112T213812Z
LAST-MODIFIED:20260112T213835Z
UID:10000517-1786521600-1786554000@equinesportsalliance.com
SUMMARY:Deen Ranch Weekly
DESCRIPTION:
URL:https://equinesportsalliance.com/event/deen-ranch-weekly/2026-08-12/
LOCATION:Deen Ranch\, Wills Point\, Texas
END:VEVENT
BEGIN:VEVENT
DTSTART;TZID=UTC:20260819T080000
DTEND;TZID=UTC:20260819T170000
DTSTAMP:20260423T182208
CREATED:20260112T213812Z
LAST-MODIFIED:20260112T213835Z
UID:10000518-1787126400-1787158800@equinesportsalliance.com
SUMMARY:Deen Ranch Weekly
DESCRIPTION:
URL:https://equinesportsalliance.com/event/deen-ranch-weekly/2026-08-19/
LOCATION:Deen Ranch\, Wills Point\, Texas
END:VEVENT
BEGIN:VEVENT
DTSTART;TZID=UTC:20260826T080000
DTEND;TZID=UTC:20260826T170000
DTSTAMP:20260423T182208
CREATED:20260112T213812Z
LAST-MODIFIED:20260112T213835Z
UID:10000519-1787731200-1787763600@equinesportsalliance.com
SUMMARY:Deen Ranch Weekly
DESCRIPTION:
URL:https://equinesportsalliance.com/event/deen-ranch-weekly/2026-08-26/
LOCATION:Deen Ranch\, Wills Point\, Texas
END:VEVENT
BEGIN:VEVENT
DTSTART;TZID=UTC:20260902T080000
DTEND;TZID=UTC:20260902T170000
DTSTAMP:20260423T182208
CREATED:20260112T213812Z
LAST-MODIFIED:20260112T213835Z
UID:10000520-1788336000-1788368400@equinesportsalliance.com
SUMMARY:Deen Ranch Weekly
DESCRIPTION:
URL:https://equinesportsalliance.com/event/deen-ranch-weekly/2026-09-02/
LOCATION:Deen Ranch\, Wills Point\, Texas
END:VEVENT
BEGIN:VEVENT
DTSTART;TZID=UTC:20260909T080000
DTEND;TZID=UTC:20260909T170000
DTSTAMP:20260423T182208
CREATED:20260112T213812Z
LAST-MODIFIED:20260112T213835Z
UID:10000521-1788940800-1788973200@equinesportsalliance.com
SUMMARY:Deen Ranch Weekly
DESCRIPTION:
URL:https://equinesportsalliance.com/event/deen-ranch-weekly/2026-09-09/
LOCATION:Deen Ranch\, Wills Point\, Texas
END:VEVENT
BEGIN:VEVENT
DTSTART;TZID=UTC:20260916T080000
DTEND;TZID=UTC:20260916T170000
DTSTAMP:20260423T182208
CREATED:20260112T213812Z
LAST-MODIFIED:20260112T213835Z
UID:10000522-1789545600-1789578000@equinesportsalliance.com
SUMMARY:Deen Ranch Weekly
DESCRIPTION:
URL:https://equinesportsalliance.com/event/deen-ranch-weekly/2026-09-16/
LOCATION:Deen Ranch\, Wills Point\, Texas
END:VEVENT
BEGIN:VEVENT
DTSTART;TZID=UTC:20260923T080000
DTEND;TZID=UTC:20260923T170000
DTSTAMP:20260423T182208
CREATED:20260112T213812Z
LAST-MODIFIED:20260112T213835Z
UID:10000523-1790150400-1790182800@equinesportsalliance.com
SUMMARY:Deen Ranch Weekly
DESCRIPTION:
URL:https://equinesportsalliance.com/event/deen-ranch-weekly/2026-09-23/
LOCATION:Deen Ranch\, Wills Point\, Texas
END:VEVENT
BEGIN:VEVENT
DTSTART;TZID=UTC:20260930T080000
DTEND;TZID=UTC:20260930T170000
DTSTAMP:20260423T182208
CREATED:20260112T213812Z
LAST-MODIFIED:20260112T213835Z
UID:10000524-1790755200-1790787600@equinesportsalliance.com
SUMMARY:Deen Ranch Weekly
DESCRIPTION:
URL:https://equinesportsalliance.com/event/deen-ranch-weekly/2026-09-30/
LOCATION:Deen Ranch\, Wills Point\, Texas
END:VEVENT
BEGIN:VEVENT
DTSTART;TZID=UTC:20261007T080000
DTEND;TZID=UTC:20261007T170000
DTSTAMP:20260423T182208
CREATED:20260112T213812Z
LAST-MODIFIED:20260112T213835Z
UID:10000525-1791360000-1791392400@equinesportsalliance.com
SUMMARY:Deen Ranch Weekly
DESCRIPTION:
URL:https://equinesportsalliance.com/event/deen-ranch-weekly/2026-10-07/
LOCATION:Deen Ranch\, Wills Point\, Texas
END:VEVENT
BEGIN:VEVENT
DTSTART;TZID=UTC:20261014T080000
DTEND;TZID=UTC:20261014T170000
DTSTAMP:20260423T182208
CREATED:20260112T213812Z
LAST-MODIFIED:20260112T213835Z
UID:10000526-1791964800-1791997200@equinesportsalliance.com
SUMMARY:Deen Ranch Weekly
DESCRIPTION:
URL:https://equinesportsalliance.com/event/deen-ranch-weekly/2026-10-14/
LOCATION:Deen Ranch\, Wills Point\, Texas
END:VEVENT
BEGIN:VEVENT
DTSTART;TZID=UTC:20261021T080000
DTEND;TZID=UTC:20261021T170000
DTSTAMP:20260423T182208
CREATED:20260112T213812Z
LAST-MODIFIED:20260112T213835Z
UID:10000527-1792569600-1792602000@equinesportsalliance.com
SUMMARY:Deen Ranch Weekly
DESCRIPTION:
URL:https://equinesportsalliance.com/event/deen-ranch-weekly/2026-10-21/
LOCATION:Deen Ranch\, Wills Point\, Texas
END:VEVENT
BEGIN:VEVENT
DTSTART;TZID=UTC:20261028T080000
DTEND;TZID=UTC:20261028T170000
DTSTAMP:20260423T182208
CREATED:20260112T213812Z
LAST-MODIFIED:20260112T213835Z
UID:10000528-1793174400-1793206800@equinesportsalliance.com
SUMMARY:Deen Ranch Weekly
DESCRIPTION:
URL:https://equinesportsalliance.com/event/deen-ranch-weekly/2026-10-28/
LOCATION:Deen Ranch\, Wills Point\, Texas
END:VEVENT
BEGIN:VEVENT
DTSTART;TZID=UTC:20261104T080000
DTEND;TZID=UTC:20261104T170000
DTSTAMP:20260423T182208
CREATED:20260112T213812Z
LAST-MODIFIED:20260112T213835Z
UID:10000529-1793779200-1793811600@equinesportsalliance.com
SUMMARY:Deen Ranch Weekly
DESCRIPTION:
URL:https://equinesportsalliance.com/event/deen-ranch-weekly/2026-11-04/
LOCATION:Deen Ranch\, Wills Point\, Texas
END:VEVENT
BEGIN:VEVENT
DTSTART;TZID=UTC:20261111T080000
DTEND;TZID=UTC:20261111T170000
DTSTAMP:20260423T182208
CREATED:20260112T213812Z
LAST-MODIFIED:20260112T213835Z
UID:10000530-1794384000-1794416400@equinesportsalliance.com
SUMMARY:Deen Ranch Weekly
DESCRIPTION:
URL:https://equinesportsalliance.com/event/deen-ranch-weekly/2026-11-11/
LOCATION:Deen Ranch\, Wills Point\, Texas
END:VEVENT
BEGIN:VEVENT
DTSTART;TZID=UTC:20261118T080000
DTEND;TZID=UTC:20261118T170000
DTSTAMP:20260423T182208
CREATED:20260112T213812Z
LAST-MODIFIED:20260112T213835Z
UID:10000531-1794988800-1795021200@equinesportsalliance.com
SUMMARY:Deen Ranch Weekly
DESCRIPTION:
URL:https://equinesportsalliance.com/event/deen-ranch-weekly/2026-11-18/
LOCATION:Deen Ranch\, Wills Point\, Texas
END:VEVENT
END:VCALENDAR