BEGIN:VCALENDAR
VERSION:2.0
PRODID:-//equinesportsalliance.com - ECPv6.0.13.1//NONSGML v1.0//EN
CALSCALE:GREGORIAN
METHOD:PUBLISH
X-ORIGINAL-URL:https://equinesportsalliance.com
X-WR-CALDESC:Events for equinesportsalliance.com
REFRESH-INTERVAL;VALUE=DURATION:PT1H
X-Robots-Tag:noindex
X-PUBLISHED-TTL:PT1H
BEGIN:VTIMEZONE
TZID:UTC
BEGIN:STANDARD
TZOFFSETFROM:+0000
TZOFFSETTO:+0000
TZNAME:UTC
DTSTART:20230101T000000
END:STANDARD
END:VTIMEZONE
BEGIN:VEVENT
DTSTART;TZID=UTC:20231202T080000
DTEND;TZID=UTC:20231203T170000
DTSTAMP:20260423T213518
CREATED:20230926T050724Z
LAST-MODIFIED:20231122T183552Z
UID:10000021-1701504000-1701622800@equinesportsalliance.com
SUMMARY:4M Equine Wild West Promotions Finals Barrel Race
DESCRIPTION:Added money and prizes to be awarded!
URL:https://equinesportsalliance.com/event/wild-west-promotions-finals-barrel-race/
LOCATION:The Expo\, Glen Rose\, TX\, United States
ATTACH;FMTTYPE=image/png:https://equinesportsalliance.com/wp-content/uploads/image0-2.png
END:VEVENT
BEGIN:VEVENT
DTSTART;TZID=UTC:20240517T080000
DTEND;TZID=UTC:20240519T170000
DTSTAMP:20260423T213518
CREATED:20231102T163606Z
LAST-MODIFIED:20240516T190032Z
UID:10000042-1715932800-1716138000@equinesportsalliance.com
SUMMARY:Mackie Memorial Barrel Race
DESCRIPTION:
URL:https://equinesportsalliance.com/event/mackie-memorial-barrel-race/
LOCATION:The Expo\, Glen Rose\, TX\, United States
END:VEVENT
BEGIN:VEVENT
DTSTART;TZID=UTC:20241122T080000
DTEND;TZID=UTC:20241124T170000
DTSTAMP:20260423T213518
CREATED:20231102T164534Z
LAST-MODIFIED:20241003T161924Z
UID:10000050-1732262400-1732467600@equinesportsalliance.com
SUMMARY:ESA & Wild West Promotions Finals
DESCRIPTION:$40\,000.00 added in Cash & Awards!
URL:https://equinesportsalliance.com/event/wild-west-promotions-finals/
LOCATION:The Expo\, Glen Rose\, TX\, United States
END:VEVENT
BEGIN:VEVENT
DTSTART;TZID=UTC:20250517T080000
DTEND;TZID=UTC:20250518T170000
DTSTAMP:20260423T213518
CREATED:20241203T005552Z
LAST-MODIFIED:20250505T203407Z
UID:10000111-1747468800-1747587600@equinesportsalliance.com
SUMMARY:Melissa Mackie Memorial
DESCRIPTION:
URL:https://equinesportsalliance.com/event/melissa-mackie-memorial/
LOCATION:The Expo\, Glen Rose\, TX\, United States
END:VEVENT
BEGIN:VEVENT
DTSTART;TZID=UTC:20250531T080000
DTEND;TZID=UTC:20250601T170000
DTSTAMP:20260423T213518
CREATED:20250529T185248Z
LAST-MODIFIED:20250529T185248Z
UID:10000131-1748678400-1748797200@equinesportsalliance.com
SUMMARY:Wild West Shootout
DESCRIPTION:
URL:https://equinesportsalliance.com/event/wild-west-shootout/
LOCATION:The Expo\, Glen Rose\, TX\, United States
END:VEVENT
BEGIN:VEVENT
DTSTART;TZID=UTC:20250607T080000
DTEND;TZID=UTC:20250608T170000
DTSTAMP:20260423T213518
CREATED:20250304T033811Z
LAST-MODIFIED:20250529T191007Z
UID:10000129-1749283200-1749402000@equinesportsalliance.com
SUMMARY:Summer Vibe Barrel Race
DESCRIPTION:
URL:https://equinesportsalliance.com/event/summer-vibe-barrel-race/
LOCATION:The Expo\, Glen Rose\, TX\, United States
END:VEVENT
BEGIN:VEVENT
DTSTART;TZID=UTC:20250905T080000
DTEND;TZID=UTC:20250906T170000
DTSTAMP:20260423T213518
CREATED:20250812T203714Z
LAST-MODIFIED:20250812T203714Z
UID:10000451-1757059200-1757178000@equinesportsalliance.com
SUMMARY:Performance Horse Depot Barrel Race
DESCRIPTION:
URL:https://equinesportsalliance.com/event/performance-horse-depot-barrel-race/
LOCATION:The Expo\, Glen Rose\, TX\, United States
END:VEVENT
BEGIN:VEVENT
DTSTART;TZID=UTC:20260206T080000
DTEND;TZID=UTC:20260208T170000
DTSTAMP:20260423T213518
CREATED:20250228T205100Z
LAST-MODIFIED:20251125T211811Z
UID:10000128-1770364800-1770570000@equinesportsalliance.com
SUMMARY:ESA & WWP Finals (Rescheduled)
DESCRIPTION:$40\,000 Added Cash & Prizes! New dates for 2025 Finals: February 6th-8th\, 2026!
URL:https://equinesportsalliance.com/event/esa-wwp-finals/
LOCATION:The Expo\, Glen Rose\, TX\, United States
ATTACH;FMTTYPE=image/png:https://equinesportsalliance.com/wp-content/uploads/Untitled-design2.png
END:VEVENT
END:VCALENDAR