BEGIN:VCALENDAR
VERSION:2.0
PRODID:-//equinesportsalliance.com - ECPv6.0.13.1//NONSGML v1.0//EN
CALSCALE:GREGORIAN
METHOD:PUBLISH
X-ORIGINAL-URL:https://equinesportsalliance.com
X-WR-CALDESC:Events for equinesportsalliance.com
REFRESH-INTERVAL;VALUE=DURATION:PT1H
X-Robots-Tag:noindex
X-PUBLISHED-TTL:PT1H
BEGIN:VTIMEZONE
TZID:UTC
BEGIN:STANDARD
TZOFFSETFROM:+0000
TZOFFSETTO:+0000
TZNAME:UTC
DTSTART:20260101T000000
END:STANDARD
END:VTIMEZONE
BEGIN:VEVENT
DTSTART;TZID=UTC:20260516T080000
DTEND;TZID=UTC:20260517T170000
DTSTAMP:20260423T195510
CREATED:20251230T174928Z
LAST-MODIFIED:20251230T174928Z
UID:10000468-1778918400-1779037200@equinesportsalliance.com
SUMMARY:Melissa Mackie Memorial
DESCRIPTION:
URL:https://equinesportsalliance.com/event/melissa-mackie-memorial-2/
LOCATION:The Expo\, Glen Rose\, TX\, United States
END:VEVENT
BEGIN:VEVENT
DTSTART;TZID=UTC:20260606T080000
DTEND;TZID=UTC:20260607T170000
DTSTAMP:20260423T195510
CREATED:20251230T175436Z
LAST-MODIFIED:20251230T175436Z
UID:10000471-1780732800-1780851600@equinesportsalliance.com
SUMMARY:Inaugural Wings of Hope
DESCRIPTION:Futurity\, Derby\, and Open 5D
URL:https://equinesportsalliance.com/event/inaugural-wings-of-hope/
LOCATION:The Expo\, Glen Rose\, TX\, United States
END:VEVENT
BEGIN:VEVENT
DTSTART;TZID=UTC:20260829T080000
DTEND;TZID=UTC:20260830T170000
DTSTAMP:20260423T195510
CREATED:20251230T180210Z
LAST-MODIFIED:20251230T180210Z
UID:10000481-1787990400-1788109200@equinesportsalliance.com
SUMMARY:The Expo
DESCRIPTION:
URL:https://equinesportsalliance.com/event/the-expo/
LOCATION:The Expo\, Glen Rose\, TX\, United States
END:VEVENT
END:VCALENDAR